BEGIN:VCALENDAR
VERSION:2.0
PRODID:-//déi jonk gréng - ECPv4.6.17//NONSGML v1.0//EN
CALSCALE:GREGORIAN
METHOD:PUBLISH
X-WR-CALNAME:déi jonk gréng
X-ORIGINAL-URL:http://www.jonkgreng.lu
X-WR-CALDESC:Events for déi jonk gréng
BEGIN:VEVENT
DTSTART;VALUE=DATE:20180531
DTEND;VALUE=DATE:20180604
DTSTAMP:20180702T032737
CREATED:20180405T144659Z
LAST-MODIFIED:20180405T144659Z
UID:1671-1527724800-1528070399@www.jonkgreng.lu
SUMMARY:European Youth Event
DESCRIPTION:déi jonk gréng fahren nach Straßburg zum European Youth Event 2018 (EYE2018). \nDas #EYE2018 findet am 1. und 2. Juni 2018 im Europäischen Parlament in Straßburg statt. Das Europäische Jugend-Event bietet jungen Europäern eine einzigartige Chance\, sich Gehör zu verschaffen. \nTeilnehmer haben im Rahmen dieser Veranstaltung die Möglichkeit \n\nIdeen für die Zukunft Europas zu entwickeln\,\nmit europäischen Entscheidungsträgern zu diskutieren und\nmehr als 8 000 junge Menschen aus ganz Europa zu treffen.\n\nIm Anschluss an die Veranstaltung: \n\nJuli 2018: Allen Mitgliedern des Europäischen Parlaments (MdEPs) wird ein Bericht mit besonders greifbaren Vorschlägen\, die auf der Veranstaltung diskutiert wurden\, übermittelt.\nHerbst 2018: Teilnehmer der Veranstaltung stellen verschiedenen parlamentarischen Ausschüssen besonders ausgereifte Ideen aus dem Bericht vor und erhalten dazu Rückmeldungen von MdEPs.\n\n
URL:http://www.jonkgreng.lu/event/european-youth-event/
LOCATION:1\, avenue du président Robert Schuman\, Strasbourg\, 67000\, France
CATEGORIES:Event
END:VEVENT
END:VCALENDAR