BEGIN:VCALENDAR
VERSION:2.0
PRODID:-//déi jonk gréng - ECPv4.6.17//NONSGML v1.0//EN
CALSCALE:GREGORIAN
METHOD:PUBLISH
X-WR-CALNAME:déi jonk gréng
X-ORIGINAL-URL:http://www.jonkgreng.lu
X-WR-CALDESC:Events for déi jonk gréng
BEGIN:VEVENT
DTSTART;TZID=UTC+1:20160902T160000
DTEND;TZID=UTC+1:20160904T160000
DTSTAMP:20180702T031846
CREATED:20160527T142602Z
LAST-MODIFIED:20160527T142602Z
UID:1522-1472832000-1473004800@www.jonkgreng.lu
SUMMARY:DJG Summercamp 2016
DESCRIPTION:déi jonk gréng invitéieren op hiren Summercamp 2016. Wéi all Joer huelen mir ons ee Weekend Zäit vir zesummen iwwert aktuell Themen ze diskutéieren an natierlech och zesummen ze féieren. \nDe genauen Programm vun dësem Joer a weider Infoen kommen Enn Juli. \n  \n
URL:http://www.jonkgreng.lu/event/djg-summercamp-2016/
LOCATION:20\, an der Driicht\, Lultzhausen\, L-9666\, Luxembourg
END:VEVENT
END:VCALENDAR